BEGIN:VCALENDAR
VERSION:2.0
PRODID:-//emotionpass//Eventos//ES
CALSCALE:GREGORIAN
METHOD:PUBLISH
BEGIN:VEVENT
UID:event-2@emotionpass
DTSTAMP:20260419T165201Z
DTSTART:20260503T130000Z
DTEND:20260503T160000Z
SUMMARY:DOMINGO ITALIANO
DESCRIPTION:🔥 ALMUERZO IMPERDIBLE EN HOTEL ABASTO 🔥    Domingo 3 de Mayo 13 Hs.    Entrada+Pasta Libre con 4 salsas+Postre     🇮🇹🇮🇹CANTA ITALIA 🇮🇹 🇮🇹ANTONIO OCCHIATO & LUIGI CARNIGLIA 👈         🍽 ALMUERZO Show completo  (Entrada + Plato Principal + Postre) $ 40.
LOCATION:Hotel Abasto – Av. Corrientes 3190
URL:https://emotionpass.com/eventos/SC4WMN
BEGIN:VALARM
ACTION:DISPLAY
DESCRIPTION:Recordatorio: DOMINGO ITALIANO
TRIGGER:-PT1H
END:VALARM
END:VEVENT
END:VCALENDAR
