BEGIN:VCALENDAR
VERSION:2.0
PRODID:-//emotionpass//Eventos//ES
CALSCALE:GREGORIAN
METHOD:PUBLISH
BEGIN:VEVENT
UID:event-1@emotionpass
DTSTAMP:20260419T165349Z
DTSTART:20260508T210000Z
DTEND:20260509T000000Z
SUMMARY:CENA SHOW - JORGE VAZQUEZ
DESCRIPTION:✨ VIERNES 8 DE MAYO – HOTEL ABASTO ✨      🎶 CENA SHOW – NOCHE DE TANGO    Una velada elegante para disfrutar lo mejor del tango en un entorno único      🎤 JORGE VÁZQUEZ EN VIVO    Una noche íntima\, emocionante y llena de clásicos      🍽️ CENA COMPLE
LOCATION:Hotel Abasto – Av. Corrientes 3190 (CABA)
URL:https://emotionpass.com/eventos/RCSWUM
BEGIN:VALARM
ACTION:DISPLAY
DESCRIPTION:Recordatorio: CENA SHOW - JORGE VAZQUEZ
TRIGGER:-PT1H
END:VALARM
END:VEVENT
END:VCALENDAR
