BEGIN:VCALENDAR
VERSION:2.0
PRODID:-//emotionpass//Eventos//ES
CALSCALE:GREGORIAN
METHOD:PUBLISH
BEGIN:VEVENT
UID:event-3@emotionpass
DTSTAMP:20260419T165149Z
DTSTART:20260606T140000Z
DTEND:20260606T190000Z
SUMMARY:COCREARTE
DESCRIPTION:COCREARTE – Evento transformacional en vivo  Samantha Giménez presenta una experiencia intensiva de 5 horas donde vas a trabajar en profundidad sobre tu mente\, tus emociones y tu identidad\, integrando herramientas de neurociencia y bioneuroemoción 
LOCATION:Hotel Abasto – Av. Corrientes 3190
URL:https://emotionpass.com/eventos/NELGG4
BEGIN:VALARM
ACTION:DISPLAY
DESCRIPTION:Recordatorio: COCREARTE
TRIGGER:-PT1H
END:VALARM
END:VEVENT
END:VCALENDAR
